BEGIN:VCALENDAR
PRODID:-//AT Content Types//AT Event//EN
VERSION:1.0
BEGIN:VEVENT
DTSTART:20250328T050000Z
DTEND:20250328T083000Z
DCREATED:20250225T054644Z
UID:ATEvent-8b4dbb481ff9a6d61f722fbf47f92a2e
SEQUENCE:0
LAST-MODIFIED:20250328T085535Z
SUMMARY:2024年度第二回研究会
DESCRIPTION:本研究会では，サービスロボットの身体性
 RUI(ロボットユーザインタフェース）にも取り組ん
 おり， 伝統的な技術や舞台芸術との連携など模索
 ています． 今回は，現代舞台芸術について、演
 の観点で日本を中心にその動向を概観し、ロボット
 とのコミニケーションに生かす可能性について触れ
 いきたいと思います。
LOCATION:東京通信大学 新宿駅前キャンパス
PRIORITY:3
TRANSP:0
END:VEVENT
END:VCALENDAR
