BEGIN:VCALENDAR
PRODID:-//AT Content Types//AT Event//EN
VERSION:2.0
METHOD:PUBLISH
BEGIN:VEVENT
DTSTAMP:20260419T140930Z
CREATED:20180720T083924Z
UID:ATEvent-122768d7bb3974f4c95e7661d23dd8eb
LAST-MODIFIED:20180903T073300Z
SUMMARY:2018年度第二回研究会
DTSTART:20180724T040000Z
DTEND:20180724T060000Z
DESCRIPTION:2018年度２回目の研究会は，本研究会と関係
 しますロボットサービスイニシアチブの総会（15\:00
 ら同会場にて開催）の前に開催します．ネットワ
 クロボットとロボットサービスを研究対象としてお
 ります研究会と業界団体の話が聞ける良い機会とな
 と思います．また，今回の研究会では，ロボット
 ービスについてのディスカッションを行う予定です
 ので，皆様の参加をお願いします．
LOCATION:機械振興会館　B2-2号室
CATEGORIES:研究会
CLASS:PUBLIC
END:VEVENT
END:VCALENDAR
