BEGIN:VCALENDAR
PRODID:-//AT Content Types//AT Event//EN
VERSION:2.0
METHOD:PUBLISH
BEGIN:VEVENT
DTSTAMP:20260419T140403Z
CREATED:20160926T015648Z
UID:ATEvent-5e8c35cf32cc425275a9e05992b67026
LAST-MODIFIED:20161003T013557Z
SUMMARY:2016年度第一回研究会
DTSTART:20160930T050000Z
DTEND:20160930T080000Z
DESCRIPTION:今年度最初の研究会は，今後，ロボットを
 ットワークに繋ぐ際に重要になると思われるIoTプ
 ットフォームに関連したご講演をお願いしました．
 デモなどを交えてご紹介くださるそうですので，皆
 奮ってご参加下さい．
LOCATION:芝浦工業大学　豊洲キャンパス　教室棟505
CATEGORIES:研究会
CLASS:PUBLIC
END:VEVENT
END:VCALENDAR
