BEGIN:VCALENDAR
PRODID:-//AT Content Types//AT Event//EN
VERSION:2.0
METHOD:PUBLISH
BEGIN:VEVENT
DTSTAMP:20260422T041835Z
CREATED:20160217T101118Z
UID:ATEvent-056a69e7952318e63d963ea5e7124332
LAST-MODIFIED:20160329T050304Z
SUMMARY:2015年度 第三回研究会
DTSTART:20160328T050000Z
DTEND:20160328T080000Z
DESCRIPTION:新幹線開業直後の函館で研究会を開催しま
 ．今回は，観光におけるネットワークやロボット
 活用およびセンサーネットワークなど，今後のロボ
 ットサービスを考える上で参考となる話題を中心に
 待講演をお願いしました．研究会の参加費は無料
 す．奮ってご参加下さい．
LOCATION:函館市地域交流まちづくりセンター
CATEGORIES:研究会
CLASS:PUBLIC
END:VEVENT
END:VCALENDAR
