BEGIN:VCALENDAR
PRODID:-//AT Content Types//AT Event//EN
VERSION:1.0
BEGIN:VEVENT
DTSTART:20100708T040000Z
DTEND:20100708T060000Z
DCREATED:20101210T041253Z
UID:ATEvent-5687affb5c4cf749d49d72afe961b236
SEQUENCE:0
LAST-MODIFIED:20110310T041422Z
SUMMARY:2010年度 第三回議事録
DESCRIPTION:第三回 ネットワークを利用したロボットサ
 ービスとサービスロボット研究専門委員会
LOCATION:首都大学東京 秋葉原サテライトキャンパス(1202室)
PRIORITY:3
TRANSP:0
END:VEVENT
END:VCALENDAR
