BEGIN:VCALENDAR
PRODID:-//AT Content Types//AT Event//EN
VERSION:1.0
BEGIN:VEVENT
DTSTART:20100428T040000Z
DTEND:20100428T060000Z
DCREATED:20101111T054104Z
UID:ATEvent-c8965f9d2790aff5c4ec21760214c79b
SEQUENCE:0
LAST-MODIFIED:20110310T041529Z
SUMMARY:2010年度 第一回議事録
DESCRIPTION:第一回 ネットワークを利用したロボットサ
 ービスとサービスロボット研究専門委員会
LOCATION:首都大学東京 秋葉原サテライトキャンパス(1202室)
PRIORITY:3
TRANSP:0
END:VEVENT
END:VCALENDAR
