BEGIN:VCALENDAR
PRODID:-//AT Content Types//AT Event//EN
VERSION:2.0
METHOD:PUBLISH
BEGIN:VEVENT
DTSTAMP:20260422T042403Z
CREATED:20260420T011202Z
UID:ATEvent-0f185ddb17631f1f26068993d2047c89
LAST-MODIFIED:20260420T021624Z
SUMMARY:2026年度 第一回研究会
DTSTART:20260430T060000Z
DTEND:20260430T080000Z
DESCRIPTION:ネットワークを利用したロボットサービス
 究専門委員会 2026年度 第1回研究会を以下のプログ
 ムで開催いたします．本研究会では，サービスロ
 ットと通信をその活用に取り組んでおります。招待
 講演では、金沢工業大学 伊藤恒平先生に、StampFly Eco
 systemによるドローン制御と通信に関してお話いただ
 ます.\n\n参加ご希望の方は本文の最後の連絡先にご
 連絡ください．オンラインでの参加も可能です.皆様
 の参加をお願いします．
LOCATION:機械振興会館65号会議室 および オンライン
CATEGORIES:研究会
CLASS:PUBLIC
END:VEVENT
END:VCALENDAR
